{"text_format":"3","workbook":"xlsx","n_sheets":1,"sheets":["тестовый"],"not_rendered":{"external_links":17},"read":"whole","date_system":"1900"}

{"sheet":"тестовый","index":0,"n_rows":147,"n_cols":17,"rows_kept":147,"merged":[[0,0,0,16]]}
["Протокол по итогам муниципального этапа ВсОШ по предмету \"Математика\"  Менделеевского муниципального района в 2019-2020 учебном году "]
["№ п/п","Муниципалитет","Полное наименование образовательного учреждения (по уставу)","Фамилия","Имя","Отчество","Класс","Дата рождения","Пол","Балл","Апеляционный балл","Итоговый балл","Максимальный балл","Статус","Фамилия, имя, отчество педагога, подготовившего участника олимпиады","Полное наименование образовательного учреждения (по уставу)","Предмет"]
[3,"Менделеевский","МБОУ \"Гимназия №1\"","Переин","Эмиль",null,4,null,"м",50,null,50,100,{"$f":"IF(L3<(M3/4),\"участник\",IF(L3<(M3/2),\"призер\",\"победитель\"))","v":"победитель"},"Шилова В.В.","МБОУ \"СОШ №2\"","математика"]
[10,"Менделеевский","МБОУ \"СОШ №1\"","Скурихина ","Арина",null,4,null,"ж",37,null,37,100,{"$f":"IF(L4<(M4/4),\"участник\",IF(L4<(M4/2),\"призер\",\"победитель\"))","v":"призер"},"Ломакина Т.Д.","МБОУ \"СОШ №1\"","математика"]
[8,"Менделеевский","МБОУ \"Монашевская СОШ\"","Иванов","Гаврил",null,4,null,"м",32,null,32,100,"участник","Никандрова Л.В.","МБОУ \"Монашевская СОШ\"","математика"]
[145,"Менделеевский","МБОУ \"Тат.Челнинская ООШ\"","Разживина","Анастасия ",null,4,null,"ж",32,null,32,100,"участник","Сандакова Т.В.","МБОУ \"Тат.Челнинская ООШ\"","математика"]
[13,"Менделеевский","МБОУ \"СОШ №1\"","Числов","Илья ",null,4,null,"м",30,null,30,100,"участник","Иванова А.Н.","МБОУ \"СОШ №1\"","математика"]
[14,"Менделеевский","МБОУ \"СОШ №1\"","Залялов","Амир",null,4,null,"м",30,null,30,100,"участник","Капрош Н.А.","МБОУ \"СОШ №1\"","математика"]
[11,"Менделеевский","МБОУ \"СОШ №1\"","Герасимова ","Вероника",null,4,null,"ж",20,null,29,100,"участник","Архипова Н.А.","МБОУ \"СОШ №1\"","математика"]
[16,"Менделеевский","МБОУ \"СОШ №1\"","Стахеева","Арина",null,4,null,"ж",27,null,27,100,"участник","Ломакина Т.Д.","МБОУ \"СОШ №1\"","математика"]
[20,"Менделеевский","МБОУ \"СОШ №2\"","Ахмадиев","Дамир",null,4,null,"м",27,null,27,100,"участник","Исрафилова С.Х","МБОУ \"СОШ №3\"","математика"]
[127,"Менделеевский","МБОУ \"СОШ №3\"","Шакирова","Лейсан",null,4,null,"ж",27,null,27,100,"участник","Исрафилова С.Х","МБОУ \"СОШ №3\"","математика"]
[129,"Менделеевский","МБОУ \"СОШ №3\"","Губкина ","Елизавета",null,4,null,"ж",25,null,25,100,"участник","Усова О.Н.","МБОУ \"СОШ №3\"","математика"]
[135,"Менделеевский","МБОУ \"СОШ №4\"","Булатова","Ангелина",null,4,null,"ж",25,null,25,100,"участник","Файзуллина Н.Ф.","МБОУ СОШ№4","математика"]
[142,"Менделеевский","МБОУ \"СОШ №4\"","Идиятуллина ","Тавифа",null,4,null,"ж",25,null,25,100,"участник","Файзуллина Н.Ф.","МБОУ СОШ№4","математика"]
[9,"Менделеевский","МБОУ \"Псеевская СОШ\"","Хасанянова ","Сюмбель",null,4,null,"ж",20,null,20,100,"участник","Фаттахова А.А.","МБОУ \"Псеевская СОШ\"","математика"]
[12,"Менделеевский","МБОУ \"СОШ №1\"","Юлдашева","Саодатхон",null,4,null,"ж",29,null,20,100,"участник","Иванова А.Н.","МБОУ \"СОШ №1\"","математика"]
[18,"Менделеевский","МБОУ \"СОШ 7\"","Гумерова ","Язиля",null,4,null,"ж",20,null,20,100,"участник","Мирзоева Фотима Хушвахтовна","МБОУ \"СОШ 7\"","математика"]
[133,"Менделеевский","МБОУ \"Енабердинская СОШ\"","Махмудов","Амир",null,4,null,"м",20,null,20,100,"участник","Скворцова Л.Н.","МБОУ \"Енабердинская СОШ\"","математика"]
[144,"Менделеевский","МБОУ \"СОШ №4\"","Данилова","Полина",null,4,null,"ж",20,null,20,100,"участник","Софронова О.Ю.","МБОУ СОШ№4","математика"]
[7,"Менделеевский","МБОУ \"Ильнетская СОШ имени Микая (Герасимова М.С.)\"","Васильева","Егор",null,4,null,"м",15,null,15,100,"участник","Михайлова С.Т.","МБОУ \"Ильнетская СОШ имени Микая (Герасимова М.С.)\"","математика"]
[15,"Менделеевский","МБОУ \"СОШ №1\"","Колпаков","Роман",null,4,null,"м",15,null,15,100,"участник","Иванова А.Н.","МБОУ \"СОШ №1\"","математика"]
[17,"Менделеевский","МБОУ \"СОШ 7\"","Хабибрахманова ","Амиля",null,4,null,"ж",15,null,15,100,"участник","Мирзоева Фотима Хушвахтовна","МБОУ \"СОШ 7\"","математика"]
[143,"Менделеевский","МБОУ \"СОШ №4\"","Ушков","Вадим",null,4,null,"м",15,null,15,100,"участник","Файзуллина Н.Ф.","МБОУ СОШ№4","математика"]
[128,"Менделеевский","МБОУ \"СОШ №7\"","Низамов","Дамир",null,4,null,"м",12,null,12,100,"участник","Мирзоева Ф.Х.","МБОУ \"СОШ №7\"","математика"]
[1,"Менделеевский","МБОУ \"СОШ №2\"","Рдаева ","Рания",null,4,null,"ж",10,null,10,100,"участник","Вахитова Р.Р.","МБОУ \"Бизякинская СОШ\" ","математика"]
[6,"Менделеевский","МБОУ \"Ижевская СОШ\"","Нургалиева ","Сабина",null,4,null,"ж",10,null,10,100,"участник","Зиганшина З.Н.","МБОУ \"Ижевская СОШ\"","математика"]
[134,"Менделеевский","МБОУ \"СОШ №3\"","Васильева","Полина",null,4,null,"ж",10,null,10,100,"участник","Созонова Е.В.","МБОУ \"СОШ №3\"","математика"]
[24,"Менделеевский","МБОУ \"СОШ №3\"","Гафарова ","Ариадна",null,4,null,"ж",6,null,6,100,"участник","Усова О.Н.","МБОУ \"СОШ №3\"","математика"]
[2,"Менделеевский","МБОУ \"СОШ №2\"","Миронов","Степан",null,4,null,"м",5,null,5,100,"участник","Вахитова Р.Р.","МБОУ \"Бизякинская СОШ\" ","математика"]
[132,"Менделеевский","МБОУ \"СОШ №2\"","Куснутдинова ","Зарина ",null,4,null,"ж",5,null,5,100,"участник","Созонова Е.В.","МБОУ \"СОШ №2\"","математика"]
[130,"Менделеевский","МБОУ \"СОШ №2\"","Фарухшина","Инзиля",null,4,null,"ж",0,null,0,100,"участник","Созонова Е.В.","МБОУ \"СОШ №2\"","математика"]
[131,"Менделеевский","МБОУ \"СОШ №2\"","Мифтахова","Эвелина",null,4,null,"ж",0,null,0,100,"участник","Созонова Е.В.","МБОУ \"СОШ №2\"","математика"]
[37,"Менделеевский",{"$f":"[1]Лист1!C18","v":"МБОУ \"СОШ №1\""},{"$f":"[1]Лист1!D18","v":"Каюмова"},{"$f":"[1]Лист1!E18","v":"Алия"},null,5,null,{"$f":"[1]Лист1!I18","v":"ж"},35,null,35,100,"участник",{"$f":"[1]Лист1!O18","v":"Мухаметдинова А.М."},{"$f":"[1]Лист1!P18","v":"МБОУ \"СОШ №1\""},"математика"]
[34,"Менделеевский",{"$f":"[1]Лист1!C15","v":"МБОУ \"СОШ №1\""},{"$f":"[1]Лист1!D15","v":"Хасанов"},{"$f":"[1]Лист1!E15","v":"Никита"},null,5,null,{"$f":"[1]Лист1!I15","v":"м"},30,null,30,100,"участник",{"$f":"[1]Лист1!O15","v":"Денисова О.Н."},{"$f":"[1]Лист1!P15","v":"МБОУ \"СОШ №1\""},"математика"]
[null,"Менделеевский","МБОУ \"СОШ №1\"","Колобков","Кирилл",null,5,null,"м",30,null,30,100,"участник","Денисова О.Н.","МБОУ \"СОШ №1\"","математика"]
[27,"Менделеевский",{"$f":"[2]Лист1!C4","v":"МБОУ \"Гимназия №1\""},{"$f":"[2]Лист1!D4","v":"Кузнецова"},{"$f":"[2]Лист1!E4","v":"Полина"},null,{"$f":"[2]Лист1!G4","v":5},null,{"$f":"[2]Лист1!I4","v":"ж."},25,null,25,100,"участник",{"$f":"[2]Лист1!O4","v":"Мингулова А.А."},{"$f":"$C$9","v":"МБОУ \"СОШ №1\""},"математика"]
[30,"Менделеевский",{"$f":"[1]Лист1!C11","v":"МБОУ \"СОШ №1\""},{"$f":"[1]Лист1!D11","v":"Шишкина "},{"$f":"[1]Лист1!E11","v":"Евгения"},null,5,null,{"$f":"[1]Лист1!I11","v":"ж"},25,null,25,100,"участник",{"$f":"[1]Лист1!O11","v":"Шаяхметова А.А."},{"$f":"[1]Лист1!P11","v":"МБОУ \"СОШ №1\""},"математика"]
[32,"Менделеевский",{"$f":"[1]Лист1!C13","v":"МБОУ \"СОШ №1\""},{"$f":"[1]Лист1!D13","v":"Кашипов"},{"$f":"[1]Лист1!E13","v":"Ислам"},null,5,null,{"$f":"[1]Лист1!I13","v":"м"},25,null,25,100,"участник",{"$f":"[1]Лист1!O13","v":"Денисова О.Н."},{"$f":"[1]Лист1!P13","v":"МБОУ \"СОШ №1\""},"математика"]
[26,"Менделеевский",{"$f":"[2]Лист1!C3","v":"МБОУ \"Гимназия №1\""},{"$f":"[2]Лист1!D3","v":"Мансуров"},{"$f":"[2]Лист1!E3","v":"Марат"},null,{"$f":"[2]Лист1!G3","v":5},null,{"$f":"[2]Лист1!I3","v":"м."},20,null,20,100,"участник",{"$f":"[2]Лист1!O3","v":"Мингулова А.А."},{"$f":"$C$9","v":"МБОУ \"СОШ №1\""},"математика"]
[28,"Менделеевский",{"$f":"[2]Лист1!C5","v":"МБОУ \"Гимназия №1\""},{"$f":"[2]Лист1!D5","v":"Ткачева"},{"$f":"[2]Лист1!E5","v":"Маргарита"},null,{"$f":"[2]Лист1!G5","v":5},null,{"$f":"[2]Лист1!I5","v":"ж."},20,null,20,100,"участник",{"$f":"[2]Лист1!O5","v":"Мингулова А.А."},{"$f":"$C$9","v":"МБОУ \"СОШ №1\""},"математика"]
[35,"Менделеевский",{"$f":"[1]Лист1!C16","v":"МБОУ \"СОШ №1\""},{"$f":"[1]Лист1!D16","v":"Хорьков"},{"$f":"[1]Лист1!E16","v":"Тимур"},null,5,null,{"$f":"[1]Лист1!I16","v":"м"},20,null,20,100,"участник",{"$f":"[1]Лист1!O16","v":"Денисова О.Н."},{"$f":"[1]Лист1!P16","v":"МБОУ \"СОШ №1\""},"математика"]
[39,"Менделеевский","МБОУ \"СОШ №7\"",{"$f":"[3]Лист3!D7","v":"Есалова"},{"$f":"[3]Лист3!E7","v":"Евгения"},null,{"$f":"[3]Лист3!G7","v":5},null,"ж",20,null,20,100,"участник",{"$f":"[3]Лист3!O7","v":"Красильникова И.С."},"МБОУ \"СОШ №7\"","математика"]
[44,"Менделеевский","МБОУ \"СОШ №3\"",{"$f":"[4]Лист1!D11","v":"Гайфуллина "},{"$f":"[4]Лист1!E11","v":"Камилла"},null,5,null,"ж",20,null,20,100,"участник",{"$f":"[4]Лист1!O11","v":"Кочергина О.Ю."},"МБОУ \"СОШ №3\"","математика"]
[46,"Менделеевский",{"$f":"[5]Лист1!C2","v":"МБОУ \"Тихоновская СОШ\""},{"$f":"[5]Лист1!D2","v":"Рэйс"},{"$f":"[5]Лист1!E2","v":"Роберт Давид"},null,{"$f":"[5]Лист1!G2","v":5},null,"м",20,null,20,100,"участник",{"$f":"[5]Лист1!O2","v":"Стрелков В.Н."},{"$f":"[5]Лист1!P2","v":"МБОУ \"Тихоновская СОШ\""},"математика"]
[null,"Менделеевский","МБОУ \"СОШ №3\"","Арсланова","Элона",null,5,null,"ж",20,null,20,100,"участник","Канайкина Н.В.","МБОУ \"СОШ №3\"","математика"]
[null,"Менделеевский","МБОУ \"СОШ №1\"","Губайдуллин","Марк",null,5,null,"м",20,null,20,100,"участник","Денисова О.Н.","МБОУ \"СОШ №1\"","математика"]
[40,"Менделеевский","МБОУ \"СОШ №7\"",{"$f":"[3]Лист3!D8","v":"Иванов"},{"$f":"[3]Лист3!E8","v":"Даниил"},null,{"$f":"[3]Лист3!G8","v":5},null,"м",15,null,15,100,"участник",{"$f":"[3]Лист3!O8","v":"Красильникова И.С."},"МБОУ \"СОШ №7\"","математика"]
[33,"Менделеевский",{"$f":"[1]Лист1!C14","v":"МБОУ \"СОШ №1\""},{"$f":"[1]Лист1!D14","v":"Чеботарева"},{"$f":"[1]Лист1!E14","v":"Вктория"},null,5,null,{"$f":"[1]Лист1!I14","v":"ж"},10,null,10,100,"участник",{"$f":"[1]Лист1!O14","v":"Денисова О.Н."},{"$f":"[1]Лист1!P14","v":"МБОУ \"СОШ №1\""},"математика"]
[36,"Менделеевский",{"$f":"[1]Лист1!C17","v":"МБОУ \"СОШ №1\""},{"$f":"[1]Лист1!D17","v":"Мартынова "},{"$f":"[1]Лист1!E17","v":"Алёна"},null,5,null,{"$f":"[1]Лист1!I17","v":"ж"},10,null,10,100,"участник",{"$f":"[1]Лист1!O17","v":"Денисова О.Н."},{"$f":"[1]Лист1!P17","v":"МБОУ \"СОШ №1\""},"математика"]
[38,"Менделеевский","МБОУ \"СОШ №2\"",{"$f":"[6]Лист1!D4","v":"Кормильцева "},{"$f":"[6]Лист1!E4","v":"Полина"},null,5,null,"ж",10,null,10,100,"участник",{"$f":"[6]Лист1!O4","v":"Самуткин Э.В."},{"$f":"[6]Лист1!P4","v":"МБОУ \"СОШ №2\""},"математика"]
[41,"Менделеевский",{"$f":"$P$94","v":"МБОУ \"СОШ №7\""},{"$f":"[4]Лист1!D8","v":"Акинин "},{"$f":"[4]Лист1!E8","v":"Илья "},null,5,null,"м",10,null,10,100,"участник",{"$f":"[4]Лист1!O8","v":"Канайкина Н.В."},"МБОУ \"СОШ №3\"","математика"]
[45,"Менделеевский",{"$f":"$P$94","v":"МБОУ \"СОШ №7\""},{"$f":"[4]Лист1!D12","v":"Камашева "},{"$f":"[4]Лист1!E12","v":"Полина"},null,5,null,"ж",10,null,10,100,"участник",{"$f":"[4]Лист1!O12","v":"Кочергина О.Ю."},"МБОУ \"СОШ №3\"","математика"]
[null,"Менделеевский","МБОУ \"СОШ №3\"","Ахмедов","Эрик",null,5,null,"м",10,null,10,100,"участник","Канайкина Н.В.","МБОУ \"СОШ №3\"","математика"]
[29,"Менделеевский","МБОУ \"Ижевская СОШ\"",{"$f":"[7]Лист1!D6","v":"Валеева"},{"$f":"[7]Лист1!E6","v":"Самира"},null,{"$f":"[7]Лист1!G6","v":5},null,"ж",5,null,5,100,"участник","Рахматуллин Р.Р.","МБОУ \"Ижевская СОШ\"","математика"]
[31,"Менделеевский",{"$f":"[1]Лист1!C12","v":"МБОУ \"СОШ №1\""},{"$f":"[1]Лист1!D12","v":"Филиппова"},{"$f":"[1]Лист1!E12","v":"Ирина"},null,5,null,{"$f":"[1]Лист1!I12","v":"ж"},5,null,5,100,"участник",{"$f":"[1]Лист1!O12","v":"Денисова О.Н."},{"$f":"[1]Лист1!P12","v":"МБОУ \"СОШ №1\""},"математика"]
[null,"Менделеевский","МБОУ \"СОШ №1\"","Ахметсахипов","Артём",null,5,null,"м",5,null,5,100,"участник","Денисова О.Н.","МБОУ \"СОШ №1\"","математика"]
[56,"Менделеевский",{"$f":"[1]Лист1!C19","v":"МБОУ \"СОШ №1\""},{"$f":"[1]Лист1!D19","v":"Ерохина"},{"$f":"[1]Лист1!E19","v":"Юлия"},null,6,null,{"$f":"[1]Лист1!I19","v":"ж"},58,null,58,100,"победитель",{"$f":"[1]Лист1!O19","v":"Мифтахова Э.Р"},{"$f":"[1]Лист1!P19","v":"МБОУ \"СОШ №1\""},"математика"]
[49,"Менделеевский",{"$f":"[2]Лист1!C6","v":"МБОУ \"Гимназия №1\""},{"$f":"[2]Лист1!D6","v":"Яшин"},{"$f":"[2]Лист1!E6","v":"Эрик"},null,{"$f":"[2]Лист1!G6","v":6},null,{"$f":"[2]Лист1!I6","v":"м."},55,null,55,100,"призер",{"$f":"[2]Лист1!O6","v":"Ужусенис Л.А."},"МБОУ \"Гимназия №1\"","математика"]
[50,"Менделеевский",{"$f":"[2]Лист1!C7","v":"МБОУ \"Гимназия №1\""},{"$f":"[2]Лист1!D7","v":"Камалов"},{"$f":"[2]Лист1!E7","v":"Амир"},null,{"$f":"[2]Лист1!G7","v":6},null,{"$f":"[2]Лист1!I7","v":"м."},40,null,40,100,"участник",{"$f":"[2]Лист1!O7","v":"Мингулова А.А."},{"$f":"$C$9","v":"МБОУ \"СОШ №1\""},"математика"]
[59,"Менделеевский",{"$f":"[1]Лист1!C22","v":"МБОУ \"СОШ №1\""},{"$f":"[1]Лист1!D22","v":"Тарасов"},{"$f":"[1]Лист1!E22","v":"Кирилл"},null,6,null,{"$f":"[1]Лист1!I22","v":"м"},40,null,40,100,"участник",{"$f":"[1]Лист1!O22","v":"Мифтахова Э.Р"},{"$f":"[1]Лист1!P22","v":"МБОУ \"СОШ №1\""},"математика"]
[60,"Менделеевский",{"$f":"[1]Лист1!C23","v":"МБОУ \"СОШ №1\""},{"$f":"[1]Лист1!D23","v":"Орлов"},{"$f":"[1]Лист1!E23","v":"Владик"},null,6,null,{"$f":"[1]Лист1!I23","v":"м"},40,null,40,100,"участник",{"$f":"[1]Лист1!O23","v":"Шаяхметова А.А"},{"$f":"[1]Лист1!P23","v":"МБОУ \"СОШ №1\""},"математика"]
[136,"Менделеевский","МБОУ СОШ№4","Фазлеева ","Ралина ",null,6,null,"ж",40,null,40,100,"участник","Акинина О.Ю.","МБОУ СОШ№4","математика"]
[47,{"$f":"[8]Лист1!B9","v":"Менделеевский"},"МБОУ \"Абалачевская СОШ\"",{"$f":"[9]Лист1!D4","v":"Сафина "},{"$f":"[9]Лист1!E4","v":"Рената"},null,{"$f":"[9]Лист1!G4","v":6},null,"ж",35,null,35,100,"участник","Шаихов И.Ш.","МБОУ \"Абалачевская сОШ\"","математика"]
[54,"Менделеевский",{"$f":"[10]Лист1!C5","v":"МБОУ \"Ильнетская СОШ имени Микая (Герасимова М.С.)\""},{"$f":"[10]Лист1!D5","v":"Васильева"},{"$f":"[10]Лист1!E5","v":"Дарья"},null,{"$f":"[10]Лист1!G5","v":6},null,{"$f":"[10]Лист1!I5","v":"ж"},35,null,35,100,"участник",{"$f":"[10]Лист1!O5","v":"Вершинина Г.Р."},{"$f":"[10]Лист1!P5","v":"МБОУ \"Ильнетская СОШ имени Микая (Герасимова М.С.)\""},"математика"]
[null,"Менделеевский","МБОУ \"СОШ №1\"","Костин","Никита",null,6,null,"м",35,null,35,100,"участник","Мифтахова Э.Р","МБОУ \"СОШ №1\"","математика"]
[51,"Менделеевский",{"$f":"[2]Лист1!C8","v":"МБОУ \"Гимназия №1\""},{"$f":"[2]Лист1!D8","v":"Шаяхметов"},{"$f":"[2]Лист1!E8","v":"Эмиль"},null,{"$f":"[2]Лист1!G8","v":6},null,{"$f":"[2]Лист1!I8","v":"м."},20,null,20,100,"участник",{"$f":"[2]Лист1!O8","v":"Мингулова А.А."},{"$f":"$C$9","v":"МБОУ \"СОШ №1\""},"математика"]
[57,"Менделеевский",{"$f":"[1]Лист1!C20","v":"МБОУ \"СОШ №1\""},{"$f":"[1]Лист1!D20","v":"Никонова"},{"$f":"[1]Лист1!E20","v":"Лариса"},null,6,null,{"$f":"[1]Лист1!I20","v":"ж"},20,null,20,100,{"$f":"IF(L68<(M68/4),\"участник\",IF(L68<(M68/2),\"призер\",\"победитель\"))","v":"участник"},{"$f":"[1]Лист1!O20","v":"Шаяхметова А.А."},{"$f":"[1]Лист1!P20","v":"МБОУ \"СОШ №1\""},"математика"]
[61,"Менделеевский",{"$f":"$P$94","v":"МБОУ \"СОШ №7\""},{"$f":"[4]Лист1!D13","v":"Бусарев"},{"$f":"[4]Лист1!E13","v":"Николай"},null,6,null,"м",20,null,20,100,"участник",{"$f":"[4]Лист1!O13","v":"Канайкина Н.В."},"МБОУ \"СОШ №3\"","математика"]
[62,"Менделеевский","МБОУ \"СОШ №3\"",{"$f":"[4]Лист1!D14","v":"Салихов"},{"$f":"[4]Лист1!E14","v":"Артур"},null,6,null,"м",20,null,20,100,"участник",{"$f":"[4]Лист1!O14","v":"Канайкина Н.В."},"МБОУ \"СОШ №3\"","математика"]
[null,"Менделеевский","МБОУ \"СОШ №2\"","Костина","София",null,6,null,"ж",20,null,20,100,"участник","Адиева И.Ш.","МБОУ \"СОШ №2\"","математика"]
[58,"Менделеевский",{"$f":"[1]Лист1!C21","v":"МБОУ \"СОШ №1\""},{"$f":"[1]Лист1!D21","v":"Галеев"},{"$f":"[1]Лист1!E21","v":"Адель"},null,6,null,{"$f":"[1]Лист1!I21","v":"м"},15,null,15,100,"участник",{"$f":"[1]Лист1!O21","v":"Шаяхметова А.А"},{"$f":"[1]Лист1!P21","v":"МБОУ \"СОШ №1\""},"математика"]
[null,"Менделеевский","МБОУ \"СОШ №2\"","Немтырев","Артём",null,6,null,"м",15,null,15,100,"участник","Адиева И.Ш.","МБОУ \"СОШ №2\"","математика"]
[55,"Менделеевский",{"$f":"'[11]5-11 кл'!B5","v":"МБОУ \"Псеевская СОШ\""},{"$f":"'[11]5-11 кл'!C5","v":"Кашбиева "},{"$f":"'[11]5-11 кл'!D5","v":"Алина"},null,{"$f":"'[11]5-11 кл'!F5","v":6},null,{"$f":"'[11]5-11 кл'!H5","v":"ж"},5,null,5,100,"участник",{"$f":"'[11]5-11 кл'!M5","v":"Зигангареев И.Р."},"МБОУ \"Псеевская СОШ\"","математика"]
[48,"Менделеевский",{"$f":"$P$4","v":"МБОУ \"СОШ №1\""},{"$f":"[12]Лист1!D7","v":"Валеева "},{"$f":"[12]Лист1!E7","v":"Рената"},null,{"$f":"[12]Лист1!G7","v":6},null,"ж",0,null,0,100,"участник","Шакиров Л.С.","МБОУ \"Бизякинская СОШ\" ","математика"]
[52,"Менделеевский",{"$f":"[13]Лист1!C4","v":"МБОУ \"Старо-Гришкинская ООШ\""},{"$f":"[13]Лист1!D4","v":"Одинцов"},{"$f":"[13]Лист1!E4","v":"Дмитрий"},null,{"$f":"[13]Лист1!G4","v":6},null,"м",0,null,0,100,"участник",{"$f":"[13]Лист1!O4","v":"Иштанов Ю.Н."},{"$f":"$C$25","v":"МБОУ \"СОШ №7\""},"математика"]
[53,"Менделеевский","МБОУ \"Енабердинская СОШ\"",{"$f":"[14]Лист1!D5","v":"Ефимов "},{"$f":"[14]Лист1!E5","v":"Гриша"},null,{"$f":"[14]Лист1!G5","v":6},null,{"$f":"[14]Лист1!I5","v":"м"},0,null,0,100,"участник","Егорова О.В.","МБОУ \"Енабердинская СОШ\"","математика"]
[76,"Менделеевский",{"$f":"[1]Лист1!C27","v":"МБОУ \"СОШ №1\""},{"$f":"[1]Лист1!D27","v":"Мельников"},{"$f":"[1]Лист1!E27","v":"Виктор"},null,7,null,{"$f":"[1]Лист1!I27","v":"м"},38,null,38,100,"участник",{"$f":"[1]Лист1!O27","v":"Шаяхметова А.А."},{"$f":"[1]Лист1!P27","v":"МБОУ \"СОШ №1\""},"математика"]
[82,"Менделеевский",{"$f":"$P$94","v":"МБОУ \"СОШ №7\""},{"$f":"[4]Лист1!D18","v":"Сагадетдинов"},{"$f":"[4]Лист1!E18","v":"Ислам"},null,7,null,"м",36,null,36,100,"участник",{"$f":"[4]Лист1!O18","v":"Кочергина О.Ю."},"МБОУ \"СОШ №3\"","математика"]
[67,"Менделеевский",{"$f":"[2]Лист1!C12","v":"МБОУ \"Гимназия №1\""},{"$f":"[2]Лист1!D12","v":"Ахметзянова"},{"$f":"[2]Лист1!E12","v":"Алия"},null,{"$f":"[2]Лист1!G12","v":7},null,{"$f":"[2]Лист1!I12","v":"ж"},35,null,35,100,"участник","Ужусенис Л.А.","МБОУ \"Гимназия №1\"","математика"]
[77,"Менделеевский",{"$f":"[1]Лист1!C28","v":"МБОУ \"СОШ №1\""},{"$f":"[1]Лист1!D28","v":"Колпаков"},{"$f":"[1]Лист1!E28","v":"Эдуард"},null,7,null,{"$f":"[1]Лист1!I28","v":"м"},35,null,35,100,"участник",{"$f":"[1]Лист1!O28","v":"Шаяхметова А.А."},{"$f":"[1]Лист1!P28","v":"МБОУ \"СОШ №1\""},"математика"]
[75,"Менделеевский",{"$f":"[1]Лист1!C26","v":"МБОУ \"СОШ №1\""},{"$f":"[1]Лист1!D26","v":"Пупышева"},{"$f":"[1]Лист1!E26","v":"Валерия"},null,7,null,{"$f":"[1]Лист1!I26","v":"ж"},33,null,33,100,"участник",{"$f":"[1]Лист1!O26","v":"Шаяхметова А.А."},{"$f":"[1]Лист1!P26","v":"МБОУ \"СОШ №1\""},"математика"]
[66,"Менделеевский",{"$f":"[2]Лист1!C11","v":"МБОУ \"Гимназия №1\""},{"$f":"[2]Лист1!D11","v":"Бабаджанов"},{"$f":"[2]Лист1!E11","v":"Арслан"},null,{"$f":"[2]Лист1!G11","v":7},null,{"$f":"[2]Лист1!I11","v":"м"},31,null,31,100,"участник","Ужусенис Л.А.","МБОУ \"Гимназия №1\"","математика"]
[74,"Менделеевский",{"$f":"[1]Лист1!C25","v":"МБОУ \"СОШ №1\""},{"$f":"[1]Лист1!D25","v":"Гилемханова"},{"$f":"[1]Лист1!E25","v":"Милана"},null,7,null,{"$f":"[1]Лист1!I25","v":"ж"},30,null,30,100,"участник",{"$f":"[1]Лист1!O25","v":"Мухаметдинова А.М."},{"$f":"[1]Лист1!P25","v":"МБОУ \"СОШ №1\""},"математика"]
[137,"Менделеевский","МБОУ СОШ№4","Булатов ","Адель",null,7,null,"м",30,null,30,100,"участник","Акинина О.Ю.","МБОУ СОШ№4","математика"]
[71,"Менделеевский","МБОУ \"Камаевская ООШ\"",{"$f":"[15]Лист1!D4","v":"Никитина "},{"$f":"[15]Лист1!E4","v":"Азалия"},null,{"$f":"[15]Лист1!G4","v":7},null,"ж",26,null,26,100,"участник","Никитина Э.Р.","МБОУ \"Камаевская ООШ\"","математика"]
[78,"Менделеевский",{"$f":"[1]Лист1!C29","v":"МБОУ \"СОШ №1\""},{"$f":"[1]Лист1!D29","v":"Шарипов"},{"$f":"[1]Лист1!E29","v":"Арслан"},null,7,null,{"$f":"[1]Лист1!I29","v":"м"},26,null,26,100,"участник",{"$f":"[1]Лист1!O29","v":"Шаяхметова А.А."},{"$f":"[1]Лист1!P29","v":"МБОУ \"СОШ №1\""},"математика"]
[80,"Менделеевский",{"$f":"$P$94","v":"МБОУ \"СОШ №7\""},{"$f":"[4]Лист1!D16","v":"Зубрин"},{"$f":"[4]Лист1!E16","v":"Ярослав"},null,7,null,"м",26,null,26,100,"участник",{"$f":"[4]Лист1!O16","v":"Кочергина О.Ю."},"МБОУ \"СОШ №3\"","математика"]
[81,"Менделеевский",{"$f":"$P$94","v":"МБОУ \"СОШ №7\""},{"$f":"[4]Лист1!D17","v":"Латыпова"},{"$f":"[4]Лист1!E17","v":"Айзиля"},null,7,null,"ж",26,null,26,100,"участник",{"$f":"[4]Лист1!O17","v":"Кочергина О.Ю."},"МБОУ \"СОШ №3\"","математика"]
[null,"Менделеевский","МБОУ \"СОШ №2\"","Никитина ","Софья",null,7,null,"ж",26,null,26,100,"участник","Адиева И.Ш.","МБОУ \"СОШ №2\"","математика"]
[65,"Менделеевский",{"$f":"[2]Лист1!C10","v":"МБОУ \"Гимназия №1\""},{"$f":"[2]Лист1!D10","v":"Плеханова"},{"$f":"[2]Лист1!E10","v":"Анастасия"},null,{"$f":"[2]Лист1!G10","v":7},null,{"$f":"[2]Лист1!I10","v":"ж"},25,null,25,100,"участник","Ужусенис Л.А.","МБОУ \"Гимназия №1\"","математика"]
[102,"Менделеевский","МБОУ \"Тат.Челнинская ООШ\"",{"$f":"[16]Лист1!D17","v":"Полетаева"},{"$f":"[16]Лист1!E17","v":"Яна"},null,7,null,"ж",25,null,25,100,"участник","Степанова Р.М.","МБОУ \"Тат.Челнинская ООШ\"","математика"]
[73,"Менделеевский",{"$f":"[1]Лист1!C24","v":"МБОУ \"СОШ №1\""},"Макаров","Ярослав",null,7,null,"м",21,null,21,100,"участник",{"$f":"[1]Лист1!O24","v":"Шаяхметова А.А."},{"$f":"[1]Лист1!P24","v":"МБОУ \"СОШ №1\""},"математика"]
[69,"Менделеевский",{"$f":"[13]Лист1!C6","v":"МБОУ \"Старо-Гришкинская ООШ\""},{"$f":"[13]Лист1!D6","v":"Камашев"},{"$f":"[13]Лист1!E6","v":"Климентий"},null,{"$f":"[13]Лист1!G6","v":7},null,"м",17,null,17,100,"участник",{"$f":"[13]Лист1!O6","v":"Мокеева К.Ф."},{"$f":"$C$25","v":"МБОУ \"СОШ №7\""},"математика"]
[70,"Менделеевский",{"$f":"[10]Лист1!C6","v":"МБОУ \"Ильнетская СОШ имени Микая (Герасимова М.С.)\""},{"$f":"[10]Лист1!D6","v":"Иванова"},{"$f":"[10]Лист1!E6","v":"Татьяна"},null,{"$f":"[10]Лист1!G6","v":7},null,{"$f":"[10]Лист1!I6","v":"ж"},16,null,16,100,"участник",{"$f":"[10]Лист1!O6","v":"Андреева С.Ю."},{"$f":"[10]Лист1!P6","v":"МБОУ \"Ильнетская СОШ имени Микая (Герасимова М.С.)\""},"математика"]
[79,"Менделеевский",{"$f":"$P$94","v":"МБОУ \"СОШ №7\""},{"$f":"[4]Лист1!D15","v":"Васильев"},{"$f":"[4]Лист1!E15","v":"Дамир"},null,7,null,"м",15,null,15,100,"участник",{"$f":"[4]Лист1!O15","v":"Кочергина О.Ю."},"МБОУ \"СОШ №3\"","математика"]
[84,"Менделеевский","МБОУ \"Тураевская СОШ\"",{"$f":"[17]Лист1!D4","v":"Даилова"},{"$f":"[17]Лист1!E4","v":"Ралина"},null,{"$f":"[17]Лист1!G4","v":7},null,{"$f":"[17]Лист1!I4","v":"ж"},15,null,15,100,"участник",{"$f":"[17]Лист1!O4","v":"Галимуллина Г.А."},"МБОУ \"Тураевская СОШ\"","математика"]
[72,"Менделеевский",{"$f":"'[11]5-11 кл'!B6","v":"МБОУ \"Псеевская СОШ\""},{"$f":"'[11]5-11 кл'!C6","v":"Валеева "},{"$f":"'[11]5-11 кл'!D6","v":"Эльза"},null,{"$f":"'[11]5-11 кл'!F6","v":7},null,{"$f":"'[11]5-11 кл'!H6","v":"ж"},13,null,13,100,"участник",{"$f":"'[11]5-11 кл'!M6","v":"Хамидуллина Г.Р"},"МБОУ \"Псеевская СОШ\"","математика"]
[68,"Менделеевский",{"$f":"[13]Лист1!C5","v":"МБОУ \"Старо-Гришкинская ООШ\""},{"$f":"[13]Лист1!D5","v":"Мальгина "},{"$f":"[13]Лист1!E5","v":"Анастасия "},null,{"$f":"[13]Лист1!G5","v":7},null,"ж",10,null,10,100,"участник",{"$f":"[13]Лист1!O5","v":"Мокеева К.Ф."},{"$f":"$C$25","v":"МБОУ \"СОШ №7\""},"математика"]
[63,"Менделеевский",{"$f":"$P$4","v":"МБОУ \"СОШ №1\""},{"$f":"[12]Лист1!D8","v":"Усиков"},{"$f":"[12]Лист1!E8","v":"Вадим"},null,{"$f":"[12]Лист1!G8","v":7},null,"м",5,null,5,100,"участник","Шакиров Л.С.","МБОУ \"Бизякинская СОШ\" ","математика"]
[64,"Менделеевский",{"$f":"[2]Лист1!C9","v":"МБОУ \"Гимназия №1\""},{"$f":"[2]Лист1!D9","v":"Нургалиева"},{"$f":"[2]Лист1!E9","v":"Ралина"},null,{"$f":"[2]Лист1!G9","v":7},null,{"$f":"[2]Лист1!I9","v":"ж"},0,null,0,100,"участник","Ужусенис Л.А.","МБОУ \"Гимназия №1\"","математика"]
[83,"Менделеевский",{"$f":"[5]Лист1!C4","v":"МБОУ \"Тихоновская СОШ\""},{"$f":"[5]Лист1!D4","v":"Гатин"},{"$f":"[5]Лист1!E4","v":"Марат"},null,{"$f":"[5]Лист1!G4","v":7},null,"м",0,null,0,100,"участник",{"$f":"[5]Лист1!O4","v":"Федоров А.П."},{"$f":"[5]Лист1!P4","v":"МБОУ \"Тихоновская СОШ\""},"математика"]
[85,"Менделеевский",{"$f":"[2]Лист1!C13","v":"МБОУ \"Гимназия №1\""},{"$f":"[2]Лист1!D13","v":"Шигапова"},{"$f":"[2]Лист1!E13","v":"Эмилия"},null,{"$f":"[2]Лист1!G13","v":8},null,{"$f":"[2]Лист1!I13","v":"ж."},14,null,14,35,"призер",{"$f":"[2]Лист1!O13","v":"Мингулова А.А."},{"$f":"$C$9","v":"МБОУ \"СОШ №1\""},"математика"]
[99,"Менделеевский",{"$f":"[5]Лист1!C3","v":"МБОУ \"Тихоновская СОШ\""},{"$f":"[5]Лист1!D3","v":"Рэйс "},"Артур",null,{"$f":"[5]Лист1!G3","v":8},null,"м",14,null,14,35,"призер",{"$f":"[5]Лист1!O3","v":"Стрелков В.Н."},{"$f":"[5]Лист1!P3","v":"МБОУ \"Тихоновская СОШ\""},"математика"]
[92,"Менделеевский",{"$f":"[1]Лист1!C31","v":"МБОУ \"СОШ №1\""},{"$f":"[1]Лист1!D31","v":"Муллахметов"},{"$f":"[1]Лист1!E31","v":"Даниф"},null,8,null,{"$f":"[1]Лист1!I31","v":"м"},2,null,2,35,"участник",{"$f":"[1]Лист1!O31","v":"Денисова О.Н."},{"$f":"[1]Лист1!P31","v":"МБОУ \"СОШ №1\""},"математика"]
[86,"Менделеевский",{"$f":"[2]Лист1!C14","v":"МБОУ \"Гимназия №1\""},{"$f":"[2]Лист1!D14","v":"Садыкова"},{"$f":"[2]Лист1!E14","v":"Камилла"},null,{"$f":"[2]Лист1!G14","v":8},null,{"$f":"[2]Лист1!I14","v":"ж."},0,null,0,35,"участник",{"$f":"[2]Лист1!O14","v":"Мингулова А.А."},{"$f":"$C$9","v":"МБОУ \"СОШ №1\""},"математика"]
[87,"Менделеевский","МБОУ \"Енабердинская СОШ\"",{"$f":"[14]Лист1!D4","v":"Долгов "},{"$f":"[14]Лист1!E4","v":"Илья"},null,{"$f":"[14]Лист1!G4","v":8},null,{"$f":"[14]Лист1!I4","v":"м"},0,null,0,35,"участник","Егорова О.В.","МБОУ \"Енабердинская СОШ\"","математика"]
[88,"Менделеевский",{"$f":"[10]Лист1!C7","v":"МБОУ \"Ильнетская СОШ имени Микая (Герасимова М.С.)\""},{"$f":"[10]Лист1!D7","v":"Яковлева"},{"$f":"[10]Лист1!E7","v":"Анастасия"},null,{"$f":"[10]Лист1!G7","v":8},null,{"$f":"[10]Лист1!I7","v":"ж"},0,null,0,35,"участник",{"$f":"[10]Лист1!O7","v":"Андреева С.Ю."},{"$f":"[10]Лист1!P7","v":"МБОУ \"Ильнетская СОШ имени Микая (Герасимова М.С.)\""},"математика"]
[89,"Менделеевский","МБОУ \"Камаевская ООШ\"",{"$f":"[15]Лист1!D5","v":"Миннуллина"},{"$f":"[15]Лист1!E5","v":"Адиля"},null,{"$f":"[15]Лист1!G5","v":8},null,"ж",0,null,0,35,"участник","Никитина Э.Р.","МБОУ \"Камаевская ООШ\"","математика"]
[90,"Менделеевский",{"$f":"'[11]5-11 кл'!B7","v":"МБОУ \"Псеевская СОШ\""},{"$f":"'[11]5-11 кл'!C7","v":"Шириева"},{"$f":"'[11]5-11 кл'!D7","v":"Эльвина"},null,{"$f":"'[11]5-11 кл'!F7","v":8},null,{"$f":"'[11]5-11 кл'!H7","v":"ж"},0,null,0,35,"участник",{"$f":"'[11]5-11 кл'!M7","v":"Зигангареев И.Р."},"МБОУ \"Псеевская СОШ\"","математика"]
[91,"Менделеевский",{"$f":"[1]Лист1!C30","v":"МБОУ \"СОШ №1\""},{"$f":"[1]Лист1!D30","v":"Прокопьева"},{"$f":"[1]Лист1!E30","v":"Виктория"},null,8,null,{"$f":"[1]Лист1!I30","v":"ж"},0,null,0,35,"участник",{"$f":"[1]Лист1!O30","v":"Шаяхметова А.А."},{"$f":"[1]Лист1!P30","v":"МБОУ \"СОШ №1\""},"математика"]
[93,"Менделеевский",{"$f":"[1]Лист1!C32","v":"МБОУ \"СОШ №1\""},{"$f":"[1]Лист1!D32","v":"Яманова"},{"$f":"[1]Лист1!E32","v":"Эмилия"},null,8,null,{"$f":"[1]Лист1!I32","v":"ж"},0,null,0,35,"участник",{"$f":"[1]Лист1!O32","v":"Денисова О.Н."},{"$f":"[1]Лист1!P32","v":"МБОУ \"СОШ №1\""},"математика"]
[94,"Менделеевский",{"$f":"[1]Лист1!C33","v":"МБОУ \"СОШ №1\""},{"$f":"[1]Лист1!D33","v":"Заболотнова"},{"$f":"[1]Лист1!E33","v":"Евангелина"},null,8,null,{"$f":"[1]Лист1!I33","v":"ж"},0,null,0,35,"участник",{"$f":"[1]Лист1!O33","v":"Шаяхметова А.А."},{"$f":"[1]Лист1!P33","v":"МБОУ \"СОШ №1\""},"математика"]
[95,"Менделеевский","МБОУ \"СОШ №2\"",{"$f":"[6]Лист1!D5","v":"Япаева "},{"$f":"[6]Лист1!E5","v":"Ксения"},null,{"$f":"[6]Лист1!G5","v":8},null,"ж",0,null,0,35,"участник",{"$f":"[6]Лист1!O5","v":"Самуткин Э.В."},{"$f":"[6]Лист1!P5","v":"МБОУ \"СОШ №2\""},"математика"]
[96,"Менделеевский",{"$f":"$P$94","v":"МБОУ \"СОШ №7\""},{"$f":"[4]Лист1!D19","v":"Зиннатуллин  "},{"$f":"[4]Лист1!E19","v":"Айнур"},null,8,null,"м",0,null,0,35,"участник",{"$f":"[4]Лист1!O19","v":"Канайкина Н.В."},"МБОУ \"СОШ №3\"","математика"]
[97,"Менделеевский",{"$f":"$P$94","v":"МБОУ \"СОШ №7\""},{"$f":"[4]Лист1!D20","v":"Салахов "},{"$f":"[4]Лист1!E20","v":"Ильнар "},null,8,null,"м",0,null,0,35,"участник",{"$f":"[4]Лист1!O20","v":"Канайкина Н.В."},"МБОУ \"СОШ №3\"","математика"]
[98,"Менделеевский",{"$f":"$P$94","v":"МБОУ \"СОШ №7\""},{"$f":"[4]Лист1!D21","v":"Тешабаева "},{"$f":"[4]Лист1!E21","v":"Зарина "},null,8,null,"ж",0,null,0,35,"участник",{"$f":"[4]Лист1!O21","v":"Канайкина Н.В."},"МБОУ \"СОШ №3\"","математика"]
[100,"Менделеевский","МБОУ \"Тураевская СОШ\"",{"$f":"[17]Лист1!D5","v":"Зиганшин"},{"$f":"[17]Лист1!E5","v":"Рунар"},null,{"$f":"[17]Лист1!G5","v":8},null,{"$f":"[17]Лист1!I5","v":"м"},0,null,0,35,"участник",{"$f":"[17]Лист1!O5","v":"Мифтахова Т.А."},"МБОУ \"Тураевская СОШ\"","математика"]
[138,"Менделеевский","МБОУ СОШ№4","Саитгареева","Айгуль",null,8,null,"ж",0,null,0,35,"участник","Акинина О.Ю.","МБОУ СОШ№4","математика"]
[null,"Менделеевский","МБОУ \"Монашевская СОШ\"","Ишаева","Кристина",null,8,null,"ж",0,null,0,35,"участник","Евдокимова В.В","МБОУ \"Монашевская СОШ\"","математика"]
[107,"Менделеевский",{"$f":"[1]Лист1!C36","v":"МБОУ \"СОШ №1\""},{"$f":"[1]Лист1!D36","v":"Аккулова"},{"$f":"[1]Лист1!E36","v":"Регина"},null,9,null,{"$f":"[1]Лист1!I36","v":"ж"},7,null,7,35,"участник",{"$f":"[1]Лист1!O36","v":"Шаяхметова А.А."},{"$f":"[1]Лист1!P36","v":"МБОУ \"СОШ №1\""},"математика"]
[104,"Менделеевский",{"$f":"[10]Лист1!C8","v":"МБОУ \"Ильнетская СОШ имени Микая (Герасимова М.С.)\""},{"$f":"[10]Лист1!D8","v":"Шамсутдинова "},{"$f":"[10]Лист1!E8","v":"Карина"},null,{"$f":"[10]Лист1!G8","v":9},null,{"$f":"[10]Лист1!I8","v":"ж"},2,null,2,35,"участник",{"$f":"[10]Лист1!O8","v":"Андреева С.Ю."},{"$f":"[10]Лист1!P8","v":"МБОУ \"Ильнетская СОШ имени Микая (Герасимова М.С.)\""},"математика"]
[106,"Менделеевский",{"$f":"[1]Лист1!C35","v":"МБОУ \"СОШ №1\""},{"$f":"[1]Лист1!D35","v":"Луппова"},{"$f":"[1]Лист1!E35","v":"Наталья"},null,9,null,{"$f":"[1]Лист1!I35","v":"ж"},2,null,2,35,"участник",{"$f":"[1]Лист1!O35","v":"Денисова О.Н."},{"$f":"[1]Лист1!P35","v":"МБОУ \"СОШ №1\""},"математика"]
[103,"Менделеевский","МБОУ \"Ижевская СОШ\"",{"$f":"[7]Лист1!D5","v":"Хабибуллин"},{"$f":"[7]Лист1!E5","v":"Самат"},null,{"$f":"[7]Лист1!G5","v":9},null,"м",0,null,0,35,"участник","Ибрагимова Р.М.","МБОУ \"Ижевская СОШ\"","математика"]
[105,"Менделеевский",{"$f":"[1]Лист1!C34","v":"МБОУ \"СОШ №1\""},{"$f":"[1]Лист1!D34","v":"Тунгускова"},{"$f":"[1]Лист1!E34","v":"Виолета"},null,9,null,{"$f":"[1]Лист1!I34","v":"ж"},0,null,0,35,"участник",{"$f":"[1]Лист1!O34","v":"Шаяхметова А.А."},{"$f":"[1]Лист1!P34","v":"МБОУ \"СОШ №1\""},"математика"]
[108,"Менделеевский",{"$f":"[1]Лист1!C37","v":"МБОУ \"СОШ №1\""},{"$f":"[1]Лист1!D37","v":"Гильфанов"},{"$f":"[1]Лист1!E37","v":"Ринальд"},null,9,null,{"$f":"[1]Лист1!I37","v":"м"},0,null,0,35,"участник",{"$f":"[1]Лист1!O37","v":"Денисова О.Н."},{"$f":"[1]Лист1!P37","v":"МБОУ \"СОШ №1\""},"математика"]
[null,"Менделеевский","МБОУ \"Гимназия №1\"","Фаразутдинов","Динар",null,9,null,"м",0,null,0,35,"участник","Ужусенис Л.А.","МБОУ \"Гимназия №1\"","математика"]
[null,"Менделеевский","МБОУ \"Гимназия №1\"","Муллагалеева","Диляра",null,9,null,"ж",0,null,0,35,"участник","Ужусенис Л.А.","МБОУ \"Гимназия №1\"","математика"]
[null,"Менделеевский","МБОУ \"Гимназия №1\"","Аракчеева","Анастасия",null,9,null,"ж",0,null,0,35,"участник","Ужусенис Л.А.","МБОУ \"Гимназия №1\"","математика"]
[115,"Менделеевский",{"$f":"[1]Лист1!C39","v":"МБОУ \"СОШ №1\""},{"$f":"[1]Лист1!D39","v":"Малыхина "},{"$f":"[1]Лист1!E39","v":"Анастасия"},null,10,null,{"$f":"[1]Лист1!I39","v":"ж"},21,null,21,35,"победитель",{"$f":"[1]Лист1!O39","v":"Сабирова Г.Р."},{"$f":"[1]Лист1!P39","v":"МБОУ \"СОШ №1\""},"математика"]
[116,"Менделеевский",{"$f":"[1]Лист1!C40","v":"МБОУ \"СОШ №1\""},{"$f":"[1]Лист1!D40","v":"Низамутдинов"},{"$f":"[1]Лист1!E40","v":"Дамир"},null,10,null,{"$f":"[1]Лист1!I40","v":"м"},14,null,14,35,"призер",{"$f":"[1]Лист1!O40","v":"Сабирова Г.Р."},{"$f":"[1]Лист1!P40","v":"МБОУ \"СОШ №1\""},"математика"]
[117,"Менделеевский",{"$f":"$P$94","v":"МБОУ \"СОШ №7\""},{"$f":"[4]Лист1!D22","v":"Горшкова"},{"$f":"[4]Лист1!E22","v":"Ксения"},null,{"$f":"[4]Лист1!G22","v":10},null,"ж",7,null,7,35,{"$f":"IF(L132<(M132/4),\"участник\",IF(L132<(M132/2),\"призер\",\"победитель\"))","v":"участник"},{"$f":"[4]Лист1!O22","v":"Султанова С.Р."},"МБОУ \"СОШ №3\"","математика"]
[null,"Менделеевский","МБОУ \"Гимназия №1\"","Стороган","Луиза",null,10,null,"ж",7,null,7,35,"участник","Ужусенис Л.А.","МБОУ \"Гимназия №1\"","математика"]
[114,"Менделеевский",{"$f":"[1]Лист1!C38","v":"МБОУ \"СОШ №1\""},{"$f":"[1]Лист1!D38","v":"Низамутдинов"},{"$f":"[1]Лист1!E38","v":"Данис"},null,10,null,{"$f":"[1]Лист1!I38","v":"м"},4,null,4,35,"участник",{"$f":"[1]Лист1!O38","v":"Сабирова Г.Р."},{"$f":"[1]Лист1!P38","v":"МБОУ \"СОШ №1\""},"математика"]
[111,"Менделеевский",{"$f":"[2]Лист1!C15","v":"МБОУ \"Гимназия №1\""},{"$f":"[2]Лист1!D15","v":"Тазиева"},{"$f":"[2]Лист1!E15","v":"Эльвина"},null,{"$f":"[2]Лист1!G15","v":10},null,{"$f":"[2]Лист1!I15","v":"ж"},3,null,3,35,"участник","Ужусенис Л.А.","МБОУ \"Гимназия №1\"","математика"]
[112,"Менделеевский",{"$f":"[2]Лист1!C16","v":"МБОУ \"Гимназия №1\""},{"$f":"[2]Лист1!D16","v":"Девликамов"},{"$f":"[2]Лист1!E16","v":"Ренард"},null,{"$f":"[2]Лист1!G16","v":10},null,{"$f":"[2]Лист1!I16","v":"м"},0,null,0,35,"участник","Ужусенис Л.А.","МБОУ \"Гимназия №1\"","математика"]
[113,"Менделеевский",{"$f":"[2]Лист1!C17","v":"МБОУ \"Гимназия №1\""},{"$f":"[2]Лист1!D17","v":"Калмыков"},{"$f":"[2]Лист1!E17","v":"Андрей"},null,{"$f":"[2]Лист1!G17","v":10},null,{"$f":"[2]Лист1!I17","v":"м"},0,null,0,35,"участник","Ужусенис Л.А.","МБОУ \"Гимназия №1\"","математика"]
[null,"Менделеевский","МБОУ \"СОШ №2\"","Зубрин","Михаил",null,10,null,"м",0,null,0,35,"участник","Адиева И.Ш.","МБОУ \"СОШ №2\"","математика"]
[null,"Менделеевский","МБОУ \"Монашевская СОШ\"","Иванова","Екатерина",null,10,null,"ж",0,null,0,35,"участник","Евдокимова В.В","МБОУ \"Монашевская СОШ\"","математика"]
[121,"Менделеевский",{"$f":"[1]Лист1!C42","v":"МБОУ \"СОШ №1\""},{"$f":"[1]Лист1!D42","v":"Солдатова"},{"$f":"[1]Лист1!E42","v":"Полина"},null,11,null,{"$f":"[1]Лист1!I42","v":"ж"},21,null,21,35,"победитель",{"$f":"[1]Лист1!O42","v":"Сабирова Г.Р."},{"$f":"[1]Лист1!P42","v":"МБОУ \"СОШ №1\""},"математика"]
[119,"Менделеевский",{"$f":"[2]Лист1!C19","v":"МБОУ \"Гимназия №1\""},{"$f":"[2]Лист1!D19","v":"Канахин"},{"$f":"[2]Лист1!E19","v":"Кирилл"},null,{"$f":"[2]Лист1!G19","v":11},null,{"$f":"[2]Лист1!I19","v":"м"},20,null,20,35,"призер","Ужусенис Л.А.","МБОУ \"Гимназия №1\"","математика"]
[120,"Менделеевский",{"$f":"[1]Лист1!C41","v":"МБОУ \"СОШ №1\""},{"$f":"[1]Лист1!D41","v":"Салаватуллина"},{"$f":"[1]Лист1!E41","v":"Алия"},null,11,null,{"$f":"[1]Лист1!I41","v":"ж"},14,null,14,35,"призер",{"$f":"[1]Лист1!O41","v":"Сабирова Г.Р."},{"$f":"[1]Лист1!P41","v":"МБОУ \"СОШ №1\""},"математика"]
[124,"Менделеевский","МБОУ \"СОШ №2\"",{"$f":"[6]Лист1!D6","v":"Гришин  "},{"$f":"[6]Лист1!E6","v":"Адель"},null,{"$f":"[6]Лист1!G6","v":11},null,"м",13,null,13,35,"призер",{"$f":"[6]Лист1!O6","v":"Самуткин Э.В."},{"$f":"[6]Лист1!P6","v":"МБОУ \"СОШ №2\""},"математика"]
[122,"Менделеевский",{"$f":"[1]Лист1!C43","v":"МБОУ \"СОШ №1\""},{"$f":"[1]Лист1!D43","v":"Зиатдинов"},{"$f":"[1]Лист1!E43","v":"Марсель"},null,11,null,{"$f":"[1]Лист1!I43","v":"м"},11,null,11,35,"участник",{"$f":"[1]Лист1!O43","v":"Сабирова Г.Р."},{"$f":"[1]Лист1!P43","v":"МБОУ \"СОШ №1\""},"математика"]
[125,"Менделеевский",{"$f":"[5]Лист1!C7","v":"МБОУ \"Тихоновская СОШ\""},{"$f":"[5]Лист1!D7","v":"Евсеева"},{"$f":"[5]Лист1!E7","v":"Александра"},null,{"$f":"[5]Лист1!G7","v":11},null,"ж",9,null,9,35,"участник",{"$f":"[5]Лист1!O7","v":"Панкрашина Н.В."},{"$f":"[5]Лист1!P7","v":"МБОУ \"Тихоновская СОШ\""},"математика"]
[118,"Менделеевский",{"$f":"[2]Лист1!C18","v":"МБОУ \"Гимназия №1\""},{"$f":"[2]Лист1!D18","v":"Христофорова"},{"$f":"[2]Лист1!E18","v":"Полина"},null,{"$f":"[2]Лист1!G18","v":11},null,{"$f":"[2]Лист1!I18","v":"ж"},2,null,2,35,"участник","Ужусенис Л.А.","МБОУ \"Гимназия №1\"","математика"]
[123,"Менделеевский",{"$f":"[1]Лист1!C44","v":"МБОУ \"СОШ №1\""},{"$f":"[1]Лист1!D44","v":"Закиров"},{"$f":"[1]Лист1!E44","v":"Тимур"},null,11,null,{"$f":"[1]Лист1!I44","v":"м"},2,null,2,35,"участник",{"$f":"[1]Лист1!O44","v":"Сабирова Г.Р."},{"$f":"[1]Лист1!P44","v":"МБОУ \"СОШ №1\""},"математика"]